BEGIN:VCALENDAR
VERSION:2.0
PRODID:-//Town of Preston in Adams County, Wisconsin - ECPv6.15.18//NONSGML v1.0//EN
CALSCALE:GREGORIAN
METHOD:PUBLISH
X-ORIGINAL-URL:https://prestonadamscountywi.gov
X-WR-CALDESC:Events for Town of Preston in Adams County, Wisconsin
REFRESH-INTERVAL;VALUE=DURATION:PT1H
X-Robots-Tag:noindex
X-PUBLISHED-TTL:PT1H
BEGIN:VTIMEZONE
TZID:America/Chicago
BEGIN:DAYLIGHT
TZOFFSETFROM:-0600
TZOFFSETTO:-0500
TZNAME:CDT
DTSTART:20220313T080000
END:DAYLIGHT
BEGIN:STANDARD
TZOFFSETFROM:-0500
TZOFFSETTO:-0600
TZNAME:CST
DTSTART:20221106T070000
END:STANDARD
BEGIN:DAYLIGHT
TZOFFSETFROM:-0600
TZOFFSETTO:-0500
TZNAME:CDT
DTSTART:20230312T080000
END:DAYLIGHT
BEGIN:STANDARD
TZOFFSETFROM:-0500
TZOFFSETTO:-0600
TZNAME:CST
DTSTART:20231105T070000
END:STANDARD
BEGIN:DAYLIGHT
TZOFFSETFROM:-0600
TZOFFSETTO:-0500
TZNAME:CDT
DTSTART:20240310T080000
END:DAYLIGHT
BEGIN:STANDARD
TZOFFSETFROM:-0500
TZOFFSETTO:-0600
TZNAME:CST
DTSTART:20241103T070000
END:STANDARD
END:VTIMEZONE
BEGIN:VEVENT
DTSTART;TZID=America/Chicago:20231018T190000
DTEND;TZID=America/Chicago:20231018T210000
DTSTAMP:20260422T165721
CREATED:20231016T224020Z
LAST-MODIFIED:20231119T153812Z
UID:1824-1697655600-1697662800@prestonadamscountywi.gov
SUMMARY:October Board Meeting
DESCRIPTION:20231018 Minutes Approved \n20231018 Minutes UnApproved \n20231018 Agenda
URL:https://prestonadamscountywi.gov/event/october-board-meeting-2/
LOCATION:Preston Town Hall\, 1801 11th Avenue\, Friendship\, WI\, 53934\, United States
END:VEVENT
END:VCALENDAR